BEGIN:VCALENDAR
VERSION:2.0
PRODID:-//Arbor - ECPv6.15.11//NONSGML v1.0//EN
CALSCALE:GREGORIAN
METHOD:PUBLISH
X-ORIGINAL-URL:https://arborpreprimary.co.za
X-WR-CALDESC:Events for Arbor
REFRESH-INTERVAL;VALUE=DURATION:PT1H
X-Robots-Tag:noindex
X-PUBLISHED-TTL:PT1H
BEGIN:VTIMEZONE
TZID:UTC
BEGIN:STANDARD
TZOFFSETFROM:+0000
TZOFFSETTO:+0000
TZNAME:UTC
DTSTART:20240101T000000
END:STANDARD
END:VTIMEZONE
BEGIN:VEVENT
DTSTART;TZID=UTC:20251107T110000
DTEND;TZID=UTC:20251107T233000
DTSTAMP:20260419T165300
CREATED:20251106T111539Z
LAST-MODIFIED:20251106T111539Z
UID:1947-1762513200-1762558200@arborpreprimary.co.za
SUMMARY:Concert Day
DESCRIPTION:All details go here.
URL:https://arborpreprimary.co.za/event/concert-day/
LOCATION:Primary School Hall\, 39 Wattle Road\, Northmead Ext 4\, Benoni\, Gauteng\, 1501\, South Africa
CATEGORIES:Concerts
END:VEVENT
END:VCALENDAR